Workbook

Sheet Bal Acre Fall Adv Calc
D2: Welcome to The Fall Advantage Savings Calculator
D3: This tool is designed to help you quickly estimate your program savings and check your eligibility for the Reward Weekend Getaway. Simply enter your planned purchases, and the calculator will do the rest. How to Use the Calculator: 1. Select Products you plan to purchase. 2. Enter your estimated purchase quantity in Column F (Highlighted Yellow). 3. For ST&I products, enter “1” (these only count toward the Multiplier rebate). 4. Review your Fall Program Total purchase and compare it to the Reward Weekend Getaway Levels Chart at the bottom of the sheet. Contact your Account Manager with any questions or to learn more.
B5: Build Yield. Build Profit. Build the Balanced Acre.
B9: *1st Step Seclect: Product / Pack Size | C9: UOM | D9: Category | E9: Quantity Minimum | F9: *2nd Step: Purchase Quantity (Enter Here) | G9: Quantity Qualification | H9: Standard List | I9: Standard Total | J9: FY25' Fall Adv List Price (with discount) | K9: Discount per UOM | L9: Fall Program Discount | M9: Fall Prgram Total
B10: Alterra G (250 gal) | C10: =IF(B10=A10," ",VLOOKUP($B10,'Fall Product Financials'!A2:B842,2,FALSE)) -> Gal | D10: =IF(B10=A10," ",VLOOKUP($B10,'Fall Product Financials'!A2:D842,4,FALSE)) -> N fertilizer enhancer | E10: =IF(B10=A10," ",VLOOKUP($B10,'Fall Product Financials'!A2:C905,3,FALSE)) -> 250 | F10: 750 | G10: =IF(B10=A10," ",IF(F10>=E10,1,0)) -> 1 | H10: =IF(B10=A10," ",VLOOKUP($B10,'Fall Product Financials'!A2:E905,5,FALSE)) -> 98.7 | I10: =IF(B10=A10," ",H10*F10) -> 74025 | J10: =IF(B10=A10," ",VLOOKUP($B10,'Fall Product Financials'!A2:I905,9,FALSE)) -> 93.765 | K10: =IF(B10=A10," ",H10-J10) -> 4.935 | L10: =IF(B10=A10," ",+K10*F10) -> 3701.25 | M10: =IF(B10=A10," ",I10-J10) -> 73931.235
B11: Crop+ (2.5 gal) | C11: =IF(B11=A11," ",VLOOKUP($B11,'Fall Product Financials'!A2:B843,2,FALSE)) -> Gal | D11: =IF(B11=A11," ",VLOOKUP($B11,'Fall Product Financials'!A2:D843,4,FALSE)) -> biostimulant | E11: =IF(B11=A11," ",VLOOKUP($B11,'Fall Product Financials'!A2:C905,3,FALSE)) -> 180 | F11: 180 | G11: =IF(B11=A11," ",IF(F11>=E11,1,0)) -> 1 | H11: =IF(B11=A11," ",VLOOKUP($B11,'Fall Product Financials'!A2:E905,5,FALSE)) -> 70 | I11: =IF(B11=A11," ",H11*F11) -> 12600 | J11: =IF(B11=A11," ",VLOOKUP($B11,'Fall Product Financials'!A2:I905,9,FALSE)) -> 63 | K11: =IF(B11=A11," ",H11-J11) -> 7 | L11: =IF(B11=A11," ",+K11*F11) -> 1260 | M11: =IF(B11=A11," ",I11-J11) -> 12537
B12: Avail T5 for Liquid (250 gal) | C12: =IF(B12=A12," ",VLOOKUP($B12,'Fall Product Financials'!A2:B844,2,FALSE)) -> Gal | D12: =IF(B12=A12," ",VLOOKUP($B12,'Fall Product Financials'!A2:D844,4,FALSE)) -> P fertilizer enhancer | E12: =IF(B12=A12," ",VLOOKUP($B12,'Fall Product Financials'!A2:C905,3,FALSE)) -> 250 | F12: 500 | G12: =IF(B12=A12," ",IF(F12>=E12,1,0)) -> 1 | H12: =IF(B12=A12," ",VLOOKUP($B12,'Fall Product Financials'!A2:E905,5,FALSE)) -> 185 | I12: =IF(B12=A12," ",H12*F12) -> 92500 | J12: =IF(B12=A12," ",VLOOKUP($B12,'Fall Product Financials'!A2:I905,9,FALSE)) -> 175.75 | K12: =IF(B12=A12," ",H12-J12) -> 9.25 | L12: =IF(B12=A12," ",+K12*F12) -> 4625 | M12: =IF(B12=A12," ",I12-J12) -> 92324.25
B13: Primo GX2 Soybean (40 lb Bag) | C13: =IF(B13=A13," ",VLOOKUP($B13,'Fall Product Financials'!A3:B905,2,FALSE)) -> each | D13: =IF(B13=A13," ",VLOOKUP($B13,'Fall Product Financials'!A3:D905,4,FALSE)) -> ST&I | E13: =IF(B13=A13," ",VLOOKUP($B13,'Fall Product Financials'!A3:C905,3,FALSE)) -> 1 | F13: 1 | G13: =IF(B13=A13," ",IF(F13>=E13,1,0)) -> 1 | H13: =IF(B13=A13," ",VLOOKUP($B13,'Fall Product Financials'!A3:E905,5,FALSE)) -> 0 | I13: =IF(B13=A13," ",H13*F13) -> 0 | J13: =IF(B13=A13," ",VLOOKUP($B13,'Fall Product Financials'!A3:I905,9,FALSE)) -> 0 | K13: =IF(B13=A13," ",H13-J13) -> 0 | L13: =IF(B13=A13," ",+K13*F13) -> 0 | M13: =IF(B13=A13," ",I13-J13) -> 0
B14: Trident G (250 gal) | C14: =IF(B14=A14," ",VLOOKUP($B14,'Fall Product Financials'!A4:B905,2,FALSE)) -> Gal | D14: =IF(B14=A14," ",VLOOKUP($B14,'Fall Product Financials'!A4:D905,4,FALSE)) -> N fertilizer enhancer | E14: =IF(B14=A14," ",VLOOKUP($B14,'Fall Product Financials'!A4:C905,3,FALSE)) -> 250 | F14: 250 | G14: =IF(B14=A14," ",IF(F14>=E14,1,0)) -> 1 | H14: =IF(B14=A14," ",VLOOKUP($B14,'Fall Product Financials'!A4:E905,5,FALSE)) -> 126.875 | I14: =IF(B14=A14," ",H14*F14) -> 31718.75 | J14: =IF(B14=A14," ",VLOOKUP($B14,'Fall Product Financials'!A4:I905,9,FALSE)) -> 120.53125 | K14: =IF(B14=A14," ",H14-J14) -> 6.34375 | L14: =IF(B14=A14," ",+K14*F14) -> 1585.9375 | M14: =IF(B14=A14," ",I14-J14) -> 31598.219
B15: microSync Pro (1x2000lb) | C15: =IF(B15=A15," ",VLOOKUP($B15,'Fall Product Financials'!A5:B906,2,FALSE)) -> Short ton | D15: =IF(B15=A15," ",VLOOKUP($B15,'Fall Product Financials'!A5:D906,4,FALSE)) -> Micronutrient | E15: =IF(B15=A15," ",VLOOKUP($B15,'Fall Product Financials'!A5:C906,3,FALSE)) -> 22 | F15: 44 | G15: =IF(B15=A15," ",IF(F15>=E15,1,0)) -> 1 | H15: =IF(B15=A15," ",VLOOKUP($B15,'Fall Product Financials'!A5:E847,5,FALSE)) -> 1715 | I15: =IF(B15=A15," ",H15*F15) -> 75460 | J15: =IF(B15=A15," ",VLOOKUP($B15,'Fall Product Financials'!A5:I906,9,FALSE)) -> 1629.25 | K15: =IF(B15=A15," ",H15-J15) -> 85.75 | L15: =IF(B15=A15," ",+K15*F15) -> 3773 | M15: =IF(B15=A15," ",I15-J15) -> 73830.75
C16: =IF(B16=A16," ",VLOOKUP($B16,'Fall Product Financials'!A6:B907,2,FALSE)) | D16: =IF(B16=A16," ",VLOOKUP($B16,'Fall Product Financials'!A6:D907,4,FALSE)) | E16: =IF(B16=A16," ",VLOOKUP($B16,'Fall Product Financials'!A6:C907,3,FALSE)) | G16: =IF(B16=A16," ",IF(F16>=E16,1,0)) | I16: =IF(B16=A16," ",H16*F16) | J16: =IF(B16=A16," ",VLOOKUP($B16,'Fall Product Financials'!A6:I907,9,FALSE)) | L16: =IF(B16=A16," ",+K16*F16)
C17: =IF(B17=A17," ",VLOOKUP($B17,'Fall Product Financials'!A7:B908,2,FALSE)) | D17: =IF(B17=A17," ",VLOOKUP($B17,'Fall Product Financials'!A7:D908,4,FALSE)) | E17: =IF(B17=A17," ",VLOOKUP($B17,'Fall Product Financials'!A7:C908,3,FALSE)) | G17: =IF(B17=A17," ",IF(F17>=E17,1,0)) | H17: =IF(B17=A17," ",VLOOKUP($B17,'Fall Product Financials'!A7:E849,5,FALSE)) | I17: =IF(B17=A17," ",H17*F17) | J17: =IF(B17=A17," ",VLOOKUP($B17,'Fall Product Financials'!A7:I908,9,FALSE)) | K17: =IF(B17=A17," ",H17-J17) | L17: =IF(B17=A17," ",+K17*F17) | M17: =IF(B17=A17," ",I17-J17)
C18: =IF(B18=A18," ",VLOOKUP($B18,'Fall Product Financials'!A8:B909,2,FALSE)) | D18: =IF(B18=A18," ",VLOOKUP($B18,'Fall Product Financials'!A8:D909,4,FALSE)) | E18: =IF(B18=A18," ",VLOOKUP($B18,'Fall Product Financials'!A8:C909,3,FALSE)) | G18: =IF(B18=A18," ",IF(F18>=E18,1,0)) | H18: =IF(B18=A18," ",VLOOKUP($B18,'Fall Product Financials'!A8:E850,5,FALSE)) | I18: =IF(B18=A18," ",H18*F18) | J18: =IF(B18=A18," ",VLOOKUP($B18,'Fall Product Financials'!A8:I909,9,FALSE)) | K18: =IF(B18=A18," ",H18-J18) | L18: =IF(B18=A18," ",+K18*F18) | M18: =IF(B18=A18," ",I18-J18)
C19: =IF(B19=A19," ",VLOOKUP($B19,'Fall Product Financials'!A9:B910,2,FALSE)) | D19: =IF(B19=A19," ",VLOOKUP($B19,'Fall Product Financials'!A9:D910,4,FALSE)) | E19: =IF(B19=A19," ",VLOOKUP($B19,'Fall Product Financials'!A9:C910,3,FALSE)) | G19: =IF(B19=A19," ",IF(F19>=E19,1,0)) | H19: =IF(B19=A19," ",VLOOKUP($B19,'Fall Product Financials'!A9:E851,5,FALSE)) | I19: =IF(B19=A19," ",H19*F19) | J19: =IF(B19=A19," ",VLOOKUP($B19,'Fall Product Financials'!A9:I910,9,FALSE)) | K19: =IF(B19=A19," ",H19-J19) | L19: =IF(B19=A19," ",+K19*F19) | M19: =IF(B19=A19," ",I19-J19)
C20: =IF(B20=A20," ",VLOOKUP($B20,'Fall Product Financials'!A10:B911,2,FALSE)) | D20: =IF(B20=A20," ",VLOOKUP($B20,'Fall Product Financials'!A10:D911,4,FALSE)) | E20: =IF(B20=A20," ",VLOOKUP($B20,'Fall Product Financials'!A10:C911,3,FALSE)) | G20: =IF(B20=A20," ",IF(F20>=E20,1,0)) | H20: =IF(B20=A20," ",VLOOKUP($B20,'Fall Product Financials'!A10:E852,5,FALSE)) | I20: =IF(B20=A20," ",H20*F20) | J20: =IF(B20=A20," ",VLOOKUP($B20,'Fall Product Financials'!A10:I911,9,FALSE)) | K20: =IF(B20=A20," ",H20-J20) | L20: =IF(B20=A20," ",+K20*F20) | M20: =IF(B20=A20," ",I20-J20)
C21: =IF(B21=A21," ",VLOOKUP($B21,'Fall Product Financials'!A11:B912,2,FALSE)) | D21: =IF(B21=A21," ",VLOOKUP($B21,'Fall Product Financials'!A11:D912,4,FALSE)) | E21: =IF(B21=A21," ",VLOOKUP($B21,'Fall Product Financials'!A11:C912,3,FALSE)) | G21: =IF(B21=A21," ",IF(F21>=E21,1,0)) | H21: =IF(B21=A21," ",VLOOKUP($B21,'Fall Product Financials'!A11:E853,5,FALSE)) | I21: =IF(B21=A21," ",H21*F21) | J21: =IF(B21=A21," ",VLOOKUP($B21,'Fall Product Financials'!A11:I912,9,FALSE)) | K21: =IF(B21=A21," ",H21-J21) | L21: =IF(B21=A21," ",+K21*F21) | M21: =IF(B21=A21," ",I21-J21)
C22: =IF(B22=A22," ",VLOOKUP($B22,'Fall Product Financials'!A12:B913,2,FALSE)) | D22: =IF(B22=A22," ",VLOOKUP($B22,'Fall Product Financials'!A12:D913,4,FALSE)) | E22: =IF(B22=A22," ",VLOOKUP($B22,'Fall Product Financials'!A12:C913,3,FALSE)) | G22: =IF(B22=A22," ",IF(F22>=E22,1,0)) | H22: =IF(B22=A22," ",VLOOKUP($B22,'Fall Product Financials'!A12:E854,5,FALSE)) | I22: =IF(B22=A22," ",H22*F22) | J22: =IF(B22=A22," ",VLOOKUP($B22,'Fall Product Financials'!A12:I913,9,FALSE)) | K22: =IF(B22=A22," ",H22-J22) | L22: =IF(B22=A22," ",+K22*F22) | M22: =IF(B22=A22," ",I22-J22)
C23: =IF(B23=A23," ",VLOOKUP($B23,'Fall Product Financials'!A13:B914,2,FALSE)) | D23: =IF(B23=A23," ",VLOOKUP($B23,'Fall Product Financials'!A13:D914,4,FALSE)) | E23: =IF(B23=A23," ",VLOOKUP($B23,'Fall Product Financials'!A13:C914,3,FALSE)) | G23: =IF(B23=A23," ",IF(F23>=E23,1,0)) | H23: =IF(B23=A23," ",VLOOKUP($B23,'Fall Product Financials'!A13:E855,5,FALSE)) | I23: =IF(B23=A23," ",H23*F23) | J23: =IF(B23=A23," ",VLOOKUP($B23,'Fall Product Financials'!A13:I914,9,FALSE)) | K23: =IF(B23=A23," ",H23-J23) | L23: =IF(B23=A23," ",+K23*F23) | M23: =IF(B23=A23," ",I23-J23)
C24: =IF(B24=A24," ",VLOOKUP($B24,'Fall Product Financials'!A14:B915,2,FALSE)) | D24: =IF(B24=A24," ",VLOOKUP($B24,'Fall Product Financials'!A14:D915,4,FALSE)) | E24: =IF(B24=A24," ",VLOOKUP($B24,'Fall Product Financials'!A14:C915,3,FALSE)) | G24: =IF(B24=A24," ",IF(F24>=E24,1,0)) | H24: =IF(B24=A24," ",VLOOKUP($B24,'Fall Product Financials'!A14:E856,5,FALSE)) | I24: =IF(B24=A24," ",H24*F24) | J24: =IF(B24=A24," ",VLOOKUP($B24,'Fall Product Financials'!A14:I915,9,FALSE)) | K24: =IF(B24=A24," ",H24-J24) | L24: =IF(B24=A24," ",+K24*F24) | M24: =IF(B24=A24," ",I24-J24)
C25: =IF(B25=A25," ",VLOOKUP($B25,'Fall Product Financials'!A15:B916,2,FALSE)) | D25: =IF(B25=A25," ",VLOOKUP($B25,'Fall Product Financials'!A15:D916,4,FALSE)) | E25: =IF(B25=A25," ",VLOOKUP($B25,'Fall Product Financials'!A15:C916,3,FALSE)) | G25: =IF(B25=A25," ",IF(F25>=E25,1,0)) | H25: =IF(B25=A25," ",VLOOKUP($B25,'Fall Product Financials'!A15:E857,5,FALSE)) | I25: =IF(B25=A25," ",H25*F25) | J25: =IF(B25=A25," ",VLOOKUP($B25,'Fall Product Financials'!A15:I916,9,FALSE)) | K25: =IF(B25=A25," ",H25-J25) | L25: =IF(B25=A25," ",+K25*F25) | M25: =IF(B25=A25," ",I25-J25)
C26: =IF(B26=A26," ",VLOOKUP($B26,'Fall Product Financials'!A16:B917,2,FALSE)) | D26: =IF(B26=A26," ",VLOOKUP($B26,'Fall Product Financials'!A16:D917,4,FALSE)) | E26: =IF(B26=A26," ",VLOOKUP($B26,'Fall Product Financials'!A16:C858,3,FALSE)) | G26: =IF(B26=A26," ",IF(F26>=E26,1,0)) | H26: =IF(B26=A26," ",VLOOKUP($B26,'Fall Product Financials'!A16:E858,5,FALSE)) | I26: =IF(B26=A26," ",H26*F26) | J26: =IF(B26=A26," ",VLOOKUP($B26,'Fall Product Financials'!A16:I858,9,FALSE)) | K26: TOTALS | L26: =SUBTOTAL(109,L10:L25) -> 14945.188 | M26: =SUBTOTAL(109,M10:M25) -> 284221.45
C27: =IF(B27=A27," ",VLOOKUP($B27,'Fall Product Financials'!#REF!,3,FALSE)) | D27: =IF(B27=A27," ",VLOOKUP($B27,'Fall Product Financials'!A17:D859,4,FALSE)) | E27: =IF(B27=A27," ",VLOOKUP($B27,'Fall Product Financials'!A17:C859,3,FALSE)) | G27: =IF(B27=A27," ",IF(F27>=E27,1,0)) | H27: =IF(B27=A27," ",VLOOKUP($B27,'Fall Product Financials'!#REF!,5,FALSE)) | J27: =IF(B27=A27," ",VLOOKUP($B27,'Fall Product Financials'!#REF!,8,FALSE)) | K27: =IF(B27=A27," ",H27-J27) | L27: =IFERROR(IF(C27=B27," ",VLOOKUP($B27,'Fall Product Financials'!#REF!,10,FALSE)*G27)," ") | M27: =IFERROR(IF(D27=C27," ",VLOOKUP($B27,'Fall Product Financials'!#REF!,10,FALSE)*H27)," ")
C28: =IF(B28=A28," ",VLOOKUP($B28,'Fall Product Financials'!#REF!,3,FALSE)) | D28: =IF(B28=A28," ",VLOOKUP($B28,'Fall Product Financials'!#REF!,4,FALSE)) | E28: =IF(B28=A28," ",VLOOKUP($B28,'Fall Product Financials'!#REF!,2,FALSE)) | G28: =IF(B28=A28," ",IF(F28>=E28,1,0)) | H28: =IF(B28=A28," ",VLOOKUP($B28,'Fall Product Financials'!#REF!,5,FALSE)) | J28: =IF(B28=A28," ",VLOOKUP($B28,'Fall Product Financials'!#REF!,8,FALSE)) | K28: =IF(B28=A28," ",H28-J28) | L28: =IFERROR(IF(C28=B28," ",VLOOKUP($B28,'Fall Product Financials'!#REF!,10,FALSE)*G28)," ") | M28: =IFERROR(IF(D28=C28," ",VLOOKUP($B28,'Fall Product Financials'!#REF!,10,FALSE)*H28)," ")
K29: =IF(B29=A29," ",H29-J29)
B30: Category | C30: # Qualifying Category Purchases | D30: Multiplier Rebate | I30: Reward Weekend Getaway Levels: | K30: Spend/Purchase | L30: # of Tickets
B31: biostimulant | C31: =IFERROR(COUNTIFS($D$10:$D$29,B31,$G$10:$G$29,1)/COUNTIFS($D$10:$D$29,B31,$G$10:$G$29,1),0) -> 1 | K31: 150000 | L31: 1
B32: N fertilizer enhancer | C32: =IFERROR(COUNTIFS($D$10:$D$29,B32,$G$10:$G$29,1)/COUNTIFS($D$10:$D$29,B32,$G$10:$G$29,1),0) -> 1 | K32: 200000 | L32: 2
B33: P fertilizer enhancer | C33: =IFERROR(COUNTIFS($D$10:$D$29,B33,$G$10:$G$29,1)/COUNTIFS($D$10:$D$29,B33,$G$10:$G$29,1),0) -> 1 | K33: 300000 | L33: 3
B34: Micronutrient | C34: =IFERROR(COUNTIFS($D$10:$D$29,B34,$G$10:$G$29,1)/COUNTIFS($D$10:$D$29,B34,$G$10:$G$29,1),0) -> 1 | K34: 400000 | L34: 4
B35: ST&I | C35: =IFERROR(COUNTIFS($D$10:$D$29,B35,$G$10:$G$29,1)/COUNTIFS($D$10:$D$29,B35,$G$10:$G$29,1),0) -> 1 | K35: 500000 | L35: 5
B36: Total Category Purchases | C36: =SUBTOTAL(109,C31:C35) -> 5 | D36: {=_xlfn.IFS(C36<2,0,C36=2,2%,C36=3,3%,C36=4,4%,C36=5,5%)} -> 0.05 | E36: Multiplier Rebate | F36: =Table1[[#This Row],[Category]]*M26 -> 14211.073
K37: =IF(B37=A37," ",H37-J37)
K38: =IF(B38=A38," ",H38-J38)
K39: =IF(B39=A39," ",H39-J39)
K40: =IF(B40=A40," ",H40-J40)
K41: =IF(B41=A41," ",H41-J41)
K42: =IF(B42=A42," ",H42-J42)
K43: =IF(B43=A43," ",H43-J43)
K44: =IF(B44=A44," ",H44-J44)
K45: =IF(B45=A45," ",H45-J45)
K46: =IF(B46=A46," ",H46-J46)
K47: =IF(B47=A47," ",H47-J47)
K48: =IF(B48=A48," ",H48-J48)
... K274: =IF(B274=A274," ",H274-J274)

Sheet Fall Product Financials
A1: Product Name | B1: UOM | C1: Quantity Minimum | D1: Category | E1: Suggested Dealer Price | F1: % Change | G1: Fall Program Discount | H1: Discount Per UOM | I1: Net Suggested Dealer Pricing w/Program | J1: Retailer $/Ton, Acre Treatment
A2: Alterra G (2.5 gal) | B2: Gal | C2: 180 | D2: N fertilizer enhancer | E2: =VLOOKUP(A2,[1]MPL!$E$7:$K$2997,5,FALSE) -> 101.61 | G2: 0.05 | H2: =G2*E2 -> 5.0805 | I2: =E2-H2 -> 96.5295
A3: Alterra G (250 gal) | B3: Gal | C3: 250 | D3: N fertilizer enhancer | E3: =VLOOKUP(A3,[1]MPL!$E$7:$K$2997,5,FALSE) -> 98.7 | G3: 0.05 | H3: =G3*E3 -> 4.935 | I3: =E3-H3 -> 93.765
A4: Alterra G (bulk) | B4: Gal | C4: 2000 | D4: N fertilizer enhancer | E4: =VLOOKUP(A4,[1]MPL!$E$7:$K$2997,5,FALSE) -> 94.58 | G4: 0.05 | H4: =G4*E4 -> 4.729 | I4: =E4-H4 -> 89.851
A5: Alterra L (2.5 gal) | B5: Gal | C5: 180 | D5: N fertilizer enhancer | E5: =VLOOKUP(A5,[1]MPL!$E$7:$K$2997,5,FALSE) -> 85.6 | G5: 0.05 | H5: =G5*E5 -> 4.28 | I5: =E5-H5 -> 81.32
A6: Alterra L (250 gal) | B6: Gal | C6: 250 | D6: N fertilizer enhancer | E6: =VLOOKUP(A6,[1]MPL!$E$7:$K$2997,5,FALSE) -> 82.69 | G6: 0.05 | H6: =G6*E6 -> 4.1345 | I6: =E6-H6 -> 78.5555
A7: Alterra L (bulk) | B7: Gal | C7: 2000 | D7: N fertilizer enhancer | E7: =VLOOKUP(A7,[1]MPL!$E$7:$K$2997,5,FALSE) -> 78.33 | G7: 0.05 | H7: =G7*E7 -> 3.9165 | I7: =E7-H7 -> 74.4135
A8: Amplio (2.5 gal) | B8: Gal | C8: 180 | D8: biostimulant | E8: 48 | G8: 0.05
A9: Amplio (250 gal) | B9: Gal | C9: 250 | D9: biostimulant | E9: 47 | G9: 0.05
A10: AVAIL for Granular (2.5 gal) | B10: Gal | C10: 180 | D10: P fertilizer enhancer | E10: =VLOOKUP(A10,[1]MPL!$E$7:$K$2997,5,FALSE) -> 208.25 | G10: 0.05 | H10: =G10*E10 -> 10.4125 | I10: =E10-H10 -> 197.8375
A11: AVAIL for Granular (250 gal) | B11: Gal | C11: 250 | D11: P fertilizer enhancer | E11: =VLOOKUP(A11,[1]MPL!$E$7:$K$2997,5,FALSE) -> 204.75 | G11: 0.05 | H11: =G11*E11 -> 10.2375 | I11: =E11-H11 -> 194.5125
A12: AVAIL for Liquid (2.5 gal) | B12: Gal | C12: 180 | D12: P fertilizer enhancer | E12: =VLOOKUP(A12,[1]MPL!$E$7:$K$2997,5,FALSE) -> 183 | G12: 0.05 | H12: =G12*E12 -> 9.15 | I12: =E12-H12 -> 173.85
A13: AVAIL for Liquid (250 gal) | B13: Gal | C13: 250 | D13: P fertilizer enhancer | E13: =VLOOKUP(A13,[1]MPL!$E$7:$K$2997,5,FALSE) -> 179.5 | G13: 0.05 | H13: =G13*E13 -> 8.975 | I13: =E13-H13 -> 170.525
A14: Avail HV (2.5 gal) | B14: Gal | C14: 180 | D14: P fertilizer enhancer | E14: =VLOOKUP(A14,[1]MPL!$E$7:$K$2997,5,FALSE) -> 92.75 | G14: 0.05 | H14: =G14*E14 -> 4.6375 | I14: =E14-H14 -> 88.1125
A15: Avail HV (2.5 gal) | B15: Gal | C15: 180 | D15: P fertilizer enhancer | E15: =VLOOKUP(A15,[1]MPL!$E$7:$K$2997,5,FALSE) -> 92.75 | G15: 0.05 | H15: =G15*E15 -> 4.6375 | I15: =E15-H15 -> 88.1125
A16: Avail HV (2.5 gal) | B16: Gal | C16: 180 | D16: P fertilizer enhancer | E16: =VLOOKUP(A16,[1]MPL!$E$7:$K$2997,5,FALSE) -> 92.75 | G16: 0.05 | H16: =G16*E16 -> 4.6375 | I16: =E16-H16 -> 88.1125
A17: Avail HV (2.5 gal) | B17: Gal | C17: 180 | D17: P fertilizer enhancer | E17: =VLOOKUP(A17,[1]MPL!$E$7:$K$2997,5,FALSE) -> 92.75 | G17: 0.05 | H17: =G17*E17 -> 4.6375 | I17: =E17-H17 -> 88.1125
A18: Avail HV (2.5 gal) | B18: Gal | C18: 180 | D18: P fertilizer enhancer | E18: =VLOOKUP(A18,[1]MPL!$E$7:$K$2997,5,FALSE) -> 92.75 | G18: 0.05 | H18: =G18*E18 -> 4.6375 | I18: =E18-H18 -> 88.1125
A19: Avail HV (2.5 gal) | B19: Gal | C19: 180 | D19: P fertilizer enhancer | E19: =VLOOKUP(A19,[1]MPL!$E$7:$K$2997,5,FALSE) -> 92.75 | G19: 0.05 | H19: =G19*E19 -> 4.6375 | I19: =E19-H19 -> 88.1125
A20: Avail HV (2.5 gal) | B20: Gal | C20: 180 | D20: P fertilizer enhancer | E20: =VLOOKUP(A20,[1]MPL!$E$7:$K$2997,5,FALSE) -> 92.75 | G20: 0.05 | H20: =G20*E20 -> 4.6375 | I20: =E20-H20 -> 88.1125
A21: Avail HV (250 gal) | B21: Gal | C21: 250 | D21: P fertilizer enhancer | E21: =VLOOKUP(A21,[1]MPL!$E$7:$K$2997,5,FALSE) -> 89.75 | G21: 0.05 | H21: =G21*E21 -> 4.4875 | I21: =E21-H21 -> 85.2625
... A143: microSync Complete (1x2000lb) | B143: Short ton | C143: 22 | D143: Micronutrient | E143: =VLOOKUP(A143,[1]MPL!$E$7:$K$2997,5,FALSE) -> 2127 | G143: 0.05 | H143: =G143*E143 -> 106.35 | I143: =E143-H143 -> 2020.65
A144: microSync Complete (40x50lb) | B144: Short ton | D144: Micronutrient | E144: =VLOOKUP(A144,[1]MPL!$E$7:$K$2997,5,FALSE) -> 2244 | G144: 0.05 | H144: =G144*E144 -> 112.2 | I144: =E144-H144 -> 2131.8
A145: microSync Complete (40x50lb) | B145: Short ton | D145: Micronutrient | E145: =VLOOKUP(A145,[1]MPL!$E$7:$K$2997,5,FALSE) -> 2244 | G145: 0.05 | H145: =G145*E145 -> 112.2 | I145: =E145-H145 -> 2131.8
A146: microSync Complete (40x50lb) | B146: Short ton | D146: Micronutrient | E146: =VLOOKUP(A146,[1]MPL!$E$7:$K$2997,5,FALSE) -> 2244 | G146: 0.05 | H146: =G146*E146 -> 112.2 | I146: =E146-H146 -> 2131.8
A147: microSync Complete (40x50lb) | B147: Short ton | D147: Micronutrient | E147: =VLOOKUP(A147,[1]MPL!$E$7:$K$2997,5,FALSE) -> 2244 | G147: 0.05 | H147: =G147*E147 -> 112.2 | I147: =E147-H147 -> 2131.8
A148: microSync Complete (40x50lb) | B148: Short ton | D148: Micronutrient | E148: =VLOOKUP(A148,[1]MPL!$E$7:$K$2997,5,FALSE) -> 2244 | G148: 0.05 | H148: =G148*E148 -> 112.2 | I148: =E148-H148 -> 2131.8
A149: microSync Complete (40x50lb) | B149: Short ton | D149: Micronutrient | E149: =VLOOKUP(A149,[1]MPL!$E$7:$K$2997,5,FALSE) -> 2244 | G149: 0.05 | H149: =G149*E149 -> 112.2 | I149: =E149-H149 -> 2131.8
A150: microSync Complete (40x50lb) | B150: Short ton | D150: Micronutrient | E150: =VLOOKUP(A150,[1]MPL!$E$7:$K$2997,5,FALSE) -> 2244 | G150: 0.05 | H150: =G150*E150 -> 112.2 | I150: =E150-H150 -> 2131.8
A151: microSync Complete (40x50lb) | B151: Short ton | D151: Micronutrient | E151: =VLOOKUP(A151,[1]MPL!$E$7:$K$2997,5,FALSE) -> 2244 | G151: 0.05 | H151: =G151*E151 -> 112.2 | I151: =E151-H151 -> 2131.8
A152: microSync Complete (40x50lb) | B152: Short ton | D152: Micronutrient | E152: =VLOOKUP(A152,[1]MPL!$E$7:$K$2997,5,FALSE) -> 2244 | G152: 0.05 | H152: =G152*E152 -> 112.2 | I152: =E152-H152 -> 2131.8
A153: microSync Complete (bulk) | B153: Short ton | C153: 25 | D153: Micronutrient | E153: =VLOOKUP(A153,[1]MPL!$E$7:$K$2997,5,FALSE) -> 2117 | G153: 0.05 | H153: =G153*E153 -> 105.85 | I153: =E153-H153 -> 2011.15
A154: microSync Complete (bulk) | B154: Short ton | C154: 25 | D154: Micronutrient | E154: =VLOOKUP(A154,[1]MPL!$E$7:$K$2997,5,FALSE) -> 2117 | G154: 0.05 | H154: =G154*E154 -> 105.85 | I154: =E154-H154 -> 2011.15
A155: microSync Complete (bulk) | B155: Short ton | C155: 25 | D155: Micronutrient | E155: =VLOOKUP(A155,[1]MPL!$E$7:$K$2997,5,FALSE) -> 2117 | G155: 0.05 | H155: =G155*E155 -> 105.85 | I155: =E155-H155 -> 2011.15
A156: microSync Complete (bulk) | B156: Short ton | C156: 25 | D156: Micronutrient | E156: =VLOOKUP(A156,[1]MPL!$E$7:$K$2997,5,FALSE) -> 2117 | G156: 0.05 | H156: =G156*E156 -> 105.85 | I156: =E156-H156 -> 2011.15
A157: microSync Complete (bulk) | B157: Short ton | C157: 25 | D157: Micronutrient | E157: =VLOOKUP(A157,[1]MPL!$E$7:$K$2997,5,FALSE) -> 2117 | G157: 0.05 | H157: =G157*E157 -> 105.85 | I157: =E157-H157 -> 2011.15
A158: microSync Complete (bulk) | B158: Short ton | C158: 25 | D158: Micronutrient | E158: =VLOOKUP(A158,[1]MPL!$E$7:$K$2997,5,FALSE) -> 2117 | G158: 0.05 | H158: =G158*E158 -> 105.85 | I158: =E158-H158 -> 2011.15
A159: microSync Complete (bulk) | B159: Short ton | C159: 25 | D159: Micronutrient | E159: =VLOOKUP(A159,[1]MPL!$E$7:$K$2997,5,FALSE) -> 2117 | G159: 0.05 | H159: =G159*E159 -> 105.85 | I159: =E159-H159 -> 2011.15
A160: microSync Copper 5% (1x2000lb) | B160: Short ton | C160: 22 | D160: Micronutrient | E160: =VLOOKUP(A160,[1]MPL!$E$7:$K$2997,5,FALSE) -> 2831 | G160: 0.05 | H160: =G160*E160 -> 141.55 | I160: =E160-H160 -> 2689.45
A161: microSync Copper 5% (1x2000lb) | B161: Short ton | C161: 22 | D161: Micronutrient | E161: =VLOOKUP(A161,[1]MPL!$E$7:$K$2997,5,FALSE) -> 2831 | G161: 0.05 | H161: =G161*E161 -> 141.55 | I161: =E161-H161 -> 2689.45
A162: microSync Copper 5% (1x2000lb) | B162: Short ton | C162: 22 | D162: Micronutrient | E162: =VLOOKUP(A162,[1]MPL!$E$7:$K$2997,5,FALSE) -> 2831 | G162: 0.05 | H162: =G162*E162 -> 141.55 | I162: =E162-H162 -> 2689.45
A163: microSync Copper 5% (1x2000lb) | B163: Short ton | C163: 22 | D163: Micronutrient | E163: =VLOOKUP(A163,[1]MPL!$E$7:$K$2997,5,FALSE) -> 2831 | G163: 0.05 | H163: =G163*E163 -> 141.55 | I163: =E163-H163 -> 2689.45
A164: microSync Copper 5% (1x2000lb) | B164: Short ton | C164: 22 | D164: Micronutrient | E164: =VLOOKUP(A164,[1]MPL!$E$7:$K$2997,5,FALSE) -> 2831 | G164: 0.05 | H164: =G164*E164 -> 141.55 | I164: =E164-H164 -> 2689.45
... A168: microSync Copper 5% (1x2000lb) | B168: Short ton | C168: 22 | D168: Micronutrient | E168: =VLOOKUP(A168,[1]MPL!$E$7:$K$2997,5,FALSE) -> 2831 | G168: 0.05 | H168: =G168*E168 -> 141.55 | I168: =E168-H168 -> 2689.45
A169: microSync Copper 5% (40x50lb) | B169: Short ton | D169: Micronutrient | E169: =VLOOKUP(A169,[1]MPL!$E$7:$K$2997,5,FALSE) -> 2953 | G169: 0.05 | H169: =G169*E169 -> 147.65 | I169: =E169-H169 -> 2805.35
A170: microSync Copper 5% (40x50lb) | B170: Short ton | D170: Micronutrient | E170: =VLOOKUP(A170,[1]MPL!$E$7:$K$2997,5,FALSE) -> 2953 | G170: 0.05 | H170: =G170*E170 -> 147.65 | I170: =E170-H170 -> 2805.35
A171: microSync Copper 5% (40x50lb) | B171: Short ton | D171: Micronutrient | E171: =VLOOKUP(A171,[1]MPL!$E$7:$K$2997,5,FALSE) -> 2953 | G171: 0.05 | H171: =G171*E171 -> 147.65 | I171: =E171-H171 -> 2805.35
A172: microSync Copper 5% (40x50lb) | B172: Short ton | D172: Micronutrient | E172: =VLOOKUP(A172,[1]MPL!$E$7:$K$2997,5,FALSE) -> 2953 | G172: 0.05 | H172: =G172*E172 -> 147.65 | I172: =E172-H172 -> 2805.35
A173: microSync Copper 5% (40x50lb) | B173: Short ton | D173: Micronutrient | E173: =VLOOKUP(A173,[1]MPL!$E$7:$K$2997,5,FALSE) -> 2953 | G173: 0.05 | H173: =G173*E173 -> 147.65 | I173: =E173-H173 -> 2805.35
A174: microSync Copper 5% (40x50lb) | B174: Short ton | D174: Micronutrient | E174: =VLOOKUP(A174,[1]MPL!$E$7:$K$2997,5,FALSE) -> 2953 | G174: 0.05 | H174: =G174*E174 -> 147.65 | I174: =E174-H174 -> 2805.35
A175: microSync Copper 5% (40x50lb) | B175: Short ton | D175: Micronutrient | E175: =VLOOKUP(A175,[1]MPL!$E$7:$K$2997,5,FALSE) -> 2953 | G175: 0.05 | H175: =G175*E175 -> 147.65 | I175: =E175-H175 -> 2805.35
A176: microSync Copper 5% (40x50lb) | B176: Short ton | D176: Micronutrient | E176: =VLOOKUP(A176,[1]MPL!$E$7:$K$2997,5,FALSE) -> 2953 | G176: 0.05 | H176: =G176*E176 -> 147.65 | I176: =E176-H176 -> 2805.35
A177: microSync Copper 5% (40x50lb) | B177: Short ton | D177: Micronutrient | E177: =VLOOKUP(A177,[1]MPL!$E$7:$K$2997,5,FALSE) -> 2953 | G177: 0.05 | H177: =G177*E177 -> 147.65 | I177: =E177-H177 -> 2805.35
A178: microSync Copper 5% (bulk) | B178: Short ton | C178: 25 | D178: Micronutrient | E178: =VLOOKUP(A178,[1]MPL!$E$7:$K$2997,5,FALSE) -> 2815 | G178: 0.05 | H178: =G178*E178 -> 140.75 | I178: =E178-H178 -> 2674.25
A179: microSync Copper 5% (bulk) | B179: Short ton | C179: 25 | D179: Micronutrient | E179: =VLOOKUP(A179,[1]MPL!$E$7:$K$2997,5,FALSE) -> 2815 | G179: 0.05 | H179: =G179*E179 -> 140.75 | I179: =E179-H179 -> 2674.25
A180: microSync Copper 5% (bulk) | B180: Short ton | C180: 25 | D180: Micronutrient | E180: =VLOOKUP(A180,[1]MPL!$E$7:$K$2997,5,FALSE) -> 2815 | G180: 0.05 | H180: =G180*E180 -> 140.75 | I180: =E180-H180 -> 2674.25
A181: microSync Copper 5% (bulk) | B181: Short ton | C181: 25 | D181: Micronutrient | E181: =VLOOKUP(A181,[1]MPL!$E$7:$K$2997,5,FALSE) -> 2815 | G181: 0.05 | H181: =G181*E181 -> 140.75 | I181: =E181-H181 -> 2674.25
A182: microSync Copper 5% (bulk) | B182: Short ton | C182: 25 | D182: Micronutrient | E182: =VLOOKUP(A182,[1]MPL!$E$7:$K$2997,5,FALSE) -> 2815 | G182: 0.05 | H182: =G182*E182 -> 140.75 | I182: =E182-H182 -> 2674.25
A183: microSync Copper 5% (bulk) | B183: Short ton | C183: 25 | D183: Micronutrient | E183: =VLOOKUP(A183,[1]MPL!$E$7:$K$2997,5,FALSE) -> 2815 | G183: 0.05 | H183: =G183*E183 -> 140.75 | I183: =E183-H183 -> 2674.25
A184: microSync Fusion (1x2000lb) | B184: Short ton | C184: 22 | D184: Micronutrient | E184: =VLOOKUP(A184,[1]MPL!$E$7:$K$2997,5,FALSE) -> 2004 | G184: 0.05 | H184: =G184*E184 -> 100.2 | I184: =E184-H184 -> 1903.8
A185: microSync Fusion (1x2000lb) | B185: Short ton | C185: 22 | D185: Micronutrient | E185: =VLOOKUP(A185,[1]MPL!$E$7:$K$2997,5,FALSE) -> 2004 | G185: 0.05 | H185: =G185*E185 -> 100.2 | I185: =E185-H185 -> 1903.8
A186: microSync Fusion (1x2000lb) | B186: Short ton | C186: 22 | D186: Micronutrient | E186: =VLOOKUP(A186,[1]MPL!$E$7:$K$2997,5,FALSE) -> 2004 | G186: 0.05 | H186: =G186*E186 -> 100.2 | I186: =E186-H186 -> 1903.8
A187: microSync Fusion (1x2000lb) | B187: Short ton | C187: 22 | D187: Micronutrient | E187: =VLOOKUP(A187,[1]MPL!$E$7:$K$2997,5,FALSE) -> 2004 | G187: 0.05 | H187: =G187*E187 -> 100.2 | I187: =E187-H187 -> 1903.8
A188: microSync Fusion (1x2000lb) | B188: Short ton | C188: 22 | D188: Micronutrient | E188: =VLOOKUP(A188,[1]MPL!$E$7:$K$2997,5,FALSE) -> 2004 | G188: 0.05 | H188: =G188*E188 -> 100.2 | I188: =E188-H188 -> 1903.8
A189: microSync Fusion (1x2000lb) | B189: Short ton | C189: 22 | D189: Micronutrient | E189: =VLOOKUP(A189,[1]MPL!$E$7:$K$2997,5,FALSE) -> 2004 | G189: 0.05 | H189: =G189*E189 -> 100.2 | I189: =E189-H189 -> 1903.8
... A192: microSync Fusion (1x2000lb) | B192: Short ton | C192: 22 | D192: Micronutrient | E192: =VLOOKUP(A192,[1]MPL!$E$7:$K$2997,5,FALSE) -> 2004 | G192: 0.05 | H192: =G192*E192 -> 100.2 | I192: =E192-H192 -> 1903.8
A193: microSync Fusion (40x50lb) | B193: Short ton | D193: Micronutrient | E193: =VLOOKUP(A193,[1]MPL!$E$7:$K$2997,5,FALSE) -> 2122 | G193: 0.05 | H193: =G193*E193 -> 106.1 | I193: =E193-H193 -> 2015.9
A194: microSync Fusion (40x50lb) | B194: Short ton | D194: Micronutrient | E194: =VLOOKUP(A194,[1]MPL!$E$7:$K$2997,5,FALSE) -> 2122 | G194: 0.05 | H194: =G194*E194 -> 106.1 | I194: =E194-H194 -> 2015.9
A195: microSync Fusion (40x50lb) | B195: Short ton | D195: Micronutrient | E195: =VLOOKUP(A195,[1]MPL!$E$7:$K$2997,5,FALSE) -> 2122 | G195: 0.05 | H195: =G195*E195 -> 106.1 | I195: =E195-H195 -> 2015.9
A196: microSync Fusion (40x50lb) | B196: Short ton | D196: Micronutrient | E196: =VLOOKUP(A196,[1]MPL!$E$7:$K$2997,5,FALSE) -> 2122 | G196: 0.05 | H196: =G196*E196 -> 106.1 | I196: =E196-H196 -> 2015.9
A197: microSync Fusion (40x50lb) | B197: Short ton | D197: Micronutrient | E197: =VLOOKUP(A197,[1]MPL!$E$7:$K$2997,5,FALSE) -> 2122 | G197: 0.05 | H197: =G197*E197 -> 106.1 | I197: =E197-H197 -> 2015.9
A198: microSync Fusion (40x50lb) | B198: Short ton | D198: Micronutrient | E198: =VLOOKUP(A198,[1]MPL!$E$7:$K$2997,5,FALSE) -> 2122 | G198: 0.05 | H198: =G198*E198 -> 106.1 | I198: =E198-H198 -> 2015.9
A199: microSync Fusion (40x50lb) | B199: Short ton | D199: Micronutrient | E199: =VLOOKUP(A199,[1]MPL!$E$7:$K$2997,5,FALSE) -> 2122 | G199: 0.05 | H199: =G199*E199 -> 106.1 | I199: =E199-H199 -> 2015.9
A200: microSync Fusion (40x50lb) | B200: Short ton | D200: Micronutrient | E200: =VLOOKUP(A200,[1]MPL!$E$7:$K$2997,5,FALSE) -> 2122 | G200: 0.05 | H200: =G200*E200 -> 106.1 | I200: =E200-H200 -> 2015.9
A201: microSync Fusion (40x50lb) | B201: Short ton | D201: Micronutrient | E201: =VLOOKUP(A201,[1]MPL!$E$7:$K$2997,5,FALSE) -> 2122 | G201: 0.05 | H201: =G201*E201 -> 106.1 | I201: =E201-H201 -> 2015.9
A202: microSync Fusion (bulk) | B202: Short ton | C202: 25 | D202: Micronutrient | E202: =VLOOKUP(A202,[1]MPL!$E$7:$K$2997,5,FALSE) -> 1994 | G202: 0.05 | H202: =G202*E202 -> 99.7 | I202: =E202-H202 -> 1894.3
A203: microSync Fusion (bulk) | B203: Short ton | C203: 25 | D203: Micronutrient | E203: =VLOOKUP(A203,[1]MPL!$E$7:$K$2997,5,FALSE) -> 1994 | G203: 0.05 | H203: =G203*E203 -> 99.7 | I203: =E203-H203 -> 1894.3
A204: microSync Fusion (bulk) | B204: Short ton | C204: 25 | D204: Micronutrient | E204: =VLOOKUP(A204,[1]MPL!$E$7:$K$2997,5,FALSE) -> 1994 | G204: 0.05 | H204: =G204*E204 -> 99.7 | I204: =E204-H204 -> 1894.3
A205: microSync Fusion (bulk) | B205: Short ton | C205: 25 | D205: Micronutrient | E205: =VLOOKUP(A205,[1]MPL!$E$7:$K$2997,5,FALSE) -> 1994 | G205: 0.05 | H205: =G205*E205 -> 99.7 | I205: =E205-H205 -> 1894.3
A206: microSync Fusion (bulk) | B206: Short ton | C206: 25 | D206: Micronutrient | E206: =VLOOKUP(A206,[1]MPL!$E$7:$K$2997,5,FALSE) -> 1994 | G206: 0.05 | H206: =G206*E206 -> 99.7 | I206: =E206-H206 -> 1894.3
A207: microSync Fusion (bulk) | B207: Short ton | C207: 25 | D207: Micronutrient | E207: =VLOOKUP(A207,[1]MPL!$E$7:$K$2997,5,FALSE) -> 1994 | G207: 0.05 | H207: =G207*E207 -> 99.7 | I207: =E207-H207 -> 1894.3
A208: microSync Fusion (bulk) | B208: Short ton | C208: 25 | D208: Micronutrient | E208: =VLOOKUP(A208,[1]MPL!$E$7:$K$2997,5,FALSE) -> 1994 | G208: 0.05 | H208: =G208*E208 -> 99.7 | I208: =E208-H208 -> 1894.3
A209: microSync Iron IDC (1x2000lb) | B209: Short ton | C209: 22 | D209: Micronutrient | E209: =VLOOKUP(A209,[1]MPL!$E$7:$K$2997,5,FALSE) -> 3500 | G209: 0.05 | H209: =G209*E209 -> 175 | I209: =E209-H209 -> 3325
A210: microSync Iron IDC (1x2000lb) | B210: Short ton | C210: 22 | D210: Micronutrient | E210: =VLOOKUP(A210,[1]MPL!$E$7:$K$2997,5,FALSE) -> 3500 | G210: 0.05 | H210: =G210*E210 -> 175 | I210: =E210-H210 -> 3325
A211: microSync Iron IDC (1x2000lb) | B211: Short ton | C211: 22 | D211: Micronutrient | E211: =VLOOKUP(A211,[1]MPL!$E$7:$K$2997,5,FALSE) -> 3500 | G211: 0.05 | H211: =G211*E211 -> 175 | I211: =E211-H211 -> 3325
A212: microSync Iron IDC (1x2000lb) | B212: Short ton | C212: 22 | D212: Micronutrient | E212: =VLOOKUP(A212,[1]MPL!$E$7:$K$2997,5,FALSE) -> 3500 | G212: 0.05 | H212: =G212*E212 -> 175 | I212: =E212-H212 -> 3325
A213: microSync Iron IDC (1x2000lb) | B213: Short ton | C213: 22 | D213: Micronutrient | E213: =VLOOKUP(A213,[1]MPL!$E$7:$K$2997,5,FALSE) -> 3500 | G213: 0.05 | H213: =G213*E213 -> 175 | I213: =E213-H213 -> 3325
... A215: microSync Iron IDC (1x2000lb) | B215: Short ton | C215: 22 | D215: Micronutrient | E215: =VLOOKUP(A215,[1]MPL!$E$7:$K$2997,5,FALSE) -> 3500 | G215: 0.05 | H215: =G215*E215 -> 175 | I215: =E215-H215 -> 3325
A216: microSync Iron IDC (40x50lb) | B216: Short ton | D216: Micronutrient | E216: =VLOOKUP(A216,[1]MPL!$E$7:$K$2997,5,FALSE) -> 3615 | G216: 0.05 | H216: =G216*E216 -> 180.75 | I216: =E216-H216 -> 3434.25
A217: microSync Iron IDC (40x50lb) | B217: Short ton | D217: Micronutrient | E217: =VLOOKUP(A217,[1]MPL!$E$7:$K$2997,5,FALSE) -> 3615 | G217: 0.05 | H217: =G217*E217 -> 180.75 | I217: =E217-H217 -> 3434.25
A218: microSync Iron IDC (40x50lb) | B218: Short ton | D218: Micronutrient | E218: =VLOOKUP(A218,[1]MPL!$E$7:$K$2997,5,FALSE) -> 3615 | G218: 0.05 | H218: =G218*E218 -> 180.75 | I218: =E218-H218 -> 3434.25
A219: microSync Iron IDC (40x50lb) | B219: Short ton | D219: Micronutrient | E219: =VLOOKUP(A219,[1]MPL!$E$7:$K$2997,5,FALSE) -> 3615 | G219: 0.05 | H219: =G219*E219 -> 180.75 | I219: =E219-H219 -> 3434.25
A220: microSync Iron IDC (40x50lb) | B220: Short ton | D220: Micronutrient | E220: =VLOOKUP(A220,[1]MPL!$E$7:$K$2997,5,FALSE) -> 3615 | G220: 0.05 | H220: =G220*E220 -> 180.75 | I220: =E220-H220 -> 3434.25
A221: microSync Iron IDC (40x50lb) | B221: Short ton | D221: Micronutrient | E221: =VLOOKUP(A221,[1]MPL!$E$7:$K$2997,5,FALSE) -> 3615 | G221: 0.05 | H221: =G221*E221 -> 180.75 | I221: =E221-H221 -> 3434.25
A222: microSync Iron IDC (40x50lb) | B222: Short ton | D222: Micronutrient | E222: =VLOOKUP(A222,[1]MPL!$E$7:$K$2997,5,FALSE) -> 3615 | G222: 0.05 | H222: =G222*E222 -> 180.75 | I222: =E222-H222 -> 3434.25
A223: microSync Manganese 8% (1x2000lb) | B223: Short ton | C223: 22 | D223: Micronutrient | E223: =VLOOKUP(A223,[1]MPL!$E$7:$K$2997,5,FALSE) -> 2049 | G223: 0.05 | H223: =G223*E223 -> 102.45 | I223: =E223-H223 -> 1946.55
A224: microSync Manganese 8% (1x2000lb) | B224: Short ton | C224: 22 | D224: Micronutrient | E224: =VLOOKUP(A224,[1]MPL!$E$7:$K$2997,5,FALSE) -> 2049 | G224: 0.05 | H224: =G224*E224 -> 102.45 | I224: =E224-H224 -> 1946.55
A225: microSync Manganese 8% (1x2000lb) | B225: Short ton | C225: 22 | D225: Micronutrient | E225: =VLOOKUP(A225,[1]MPL!$E$7:$K$2997,5,FALSE) -> 2049 | G225: 0.05 | H225: =G225*E225 -> 102.45 | I225: =E225-H225 -> 1946.55
A226: microSync Manganese 8% (1x2000lb) | B226: Short ton | C226: 22 | D226: Micronutrient | E226: =VLOOKUP(A226,[1]MPL!$E$7:$K$2997,5,FALSE) -> 2049 | G226: 0.05 | H226: =G226*E226 -> 102.45 | I226: =E226-H226 -> 1946.55
A227: microSync Manganese 8% (1x2000lb) | B227: Short ton | C227: 22 | D227: Micronutrient | E227: =VLOOKUP(A227,[1]MPL!$E$7:$K$2997,5,FALSE) -> 2049 | G227: 0.05 | H227: =G227*E227 -> 102.45 | I227: =E227-H227 -> 1946.55
...

Sheet Sheet1
A1: Item Number | B1: Product Name | C1: UoM | D1: Pallet Configuration | E1: COGS GAL | F1: Suggested Dealer Price | G1: Suggested Grower Price | H1: Product Segment | I1: Product Group
A2: 1002466 | B2: Crop + Organic (2.5 gal) | C2: Gal | D2: 180 gal plt (36 cs x (2x2.5)) | E2: 27.27 | F2: 70 | G2: 105 | H2: biostimulants | I2: biostimulant
A3: 1002467 | B3: Crop + Organic (265 gal) | C3: Gal | D3: 265 gal tote (1x265) | E3: 18.71 | F3: 68 | G3: 105 | H3: biostimulants | I3: biostimulant
A4: 1000908 | B4: Crop+ (2.5 gal) | C4: Gal | D4: 180 gal (36 x (2x2.5)) | E4: 27.068 | F4: 70 | G4: 105 | H4: biostimulants | I4: biostimulant
A5: 1000905 | B5: Crop+ (265 gal) | C5: Gal | D5: 265 gal tote (1x265) | E5: 18.7102 | F5: 68 | G5: 105 | H5: biostimulants | I5: biostimulant
A6: 1001818 | B6: Cyto-Red+ (2.5 gal) | C6: Gal | D6: 180 gal plt (36 cs x (2x2.5)) | E6: 15.1797 | F6: 29.5 | G6: 44.25 | H6: biostimulants | I6: biostimulant
A7: 1002464 | B7: Cyto-Red+ (265 gal) | C7: Gal | D7: 265 gal tote (1x265) | E7: 12.4152 | F7: 28.5 | G7: 42.75 | H7: biostimulants | I7: biostimulant
A8: 1000439 | B8: Fungi-Phite (2.5 gal) | C8: Gal | D8: 180 gal plt (36 cs x (2x2.5)) | E8: 13.39 | F8: 20.9 | G8: 31.35 | H8: biostimulants | I8: phosphite
A9: 1001554 | B9: Fungi-Phite (265 gal) | C9: Gal | D9: 265 gal tote (1x265) | E9: 11.26 | F9: 19.9 | G9: 29.85 | H9: biostimulants | I9: phosphite
A10: 1001486 | B10: Fungi-Phite (bulk) | C10: Gal | D10: bulk | E10: 10 | F10: 18.9 | G10: 28.35 | H10: biostimulants | I10: phosphite
A11: 1000546 | B11: Intracept (2.5 gal) | C11: Gal | D11: 180 gal plt (36 cs x (2x2.5)) | E11: 14.14 | F11: 126 | G11: 189 | H11: biostimulants | I11: biostimulant
A12: 1000571 | B12: Intracept O (Organic) (2.5 gal) | C12: Gal | D12: 180 gal plt (36 cs x (2x2.5)) | E12: 9.62 | F12: 126 | G12: 189 | H12: biostimulants | I12: biostimulant
A13: 1000849 | B13: Lyra (2.5 gal) | C13: Gal | D13: 180 gal plt (36 cs x (2x2.5)) | E13: 19.71 | H13: biostimulants | I13: biostimulant
A14: 1000831 | B14: Lyra (265 gal) | C14: Gal | D14: 265 gal tote (1x265) | E14: 17.75 | H14: biostimulants | I14: biostimulant
A15: 1000461 | B15: Nutri-Phite Calci-Phite (2.5 gal) | C15: Gal | D15: 180 gal plt (36 cs x (2x2.5)) | E15: 12 | F15: 26.45 | G15: 39.68 | H15: biostimulants | I15: phosphite
A16: 1000462 | B16: Nutri-Phite Calci-Phite (2.5 gal) | C16: Gal | D16: 180 gal plt (36 cs x (2x2.5)) | E16: 12 | F16: 26.45 | G16: 39.68 | H16: biostimulants | I16: phosphite
A17: 1000463 | B17: Nutri-Phite Calci-Phite (2.5 gal) | C17: Gal | D17: 180 gal plt (36 cs x (2x2.5)) | E17: 12 | F17: 26.45 | G17: 39.68 | H17: biostimulants | I17: phosphite
A18: 1000464 | B18: Nutri-Phite Calci-Phite (265 gal) | C18: Gal | D18: 265 gal tote (1x265) | E18: 10.04 | F18: 25.7 | G18: 38.55 | H18: biostimulants | I18: phosphite
A19: 1002380 | B19: Nutri-Phite Calci-Phite (265 gal) | C19: Gal | D19: 265 gal tote (1x265) | E19: 10.04 | F19: 25.7 | G19: 38.55 | H19: biostimulants | I19: phosphite
A20: 1000448 | B20: Nutri-Phite Magnum (2.5 gal) | C20: Gal | D20: 180 gal plt (36 cs x (2x2.5)) | E20: 20.27 | F20: 34.5 | G20: 51.75 | H20: biostimulants | I20: phosphite
A21: 1000449 | B21: Nutri-Phite Magnum (2.5 gal) | C21: Gal | D21: 180 gal plt (36 cs x (2x2.5)) | E21: 20.27 | F21: 34.5 | G21: 51.75 | H21: biostimulants | I21: phosphite
A22: 1000450 | B22: Nutri-Phite Magnum (2.5 gal) | C22: Gal | D22: 180 gal plt (36 cs x (2x2.5)) | E22: 20.27 | F22: 34.5 | G22: 51.75 | H22: biostimulants | I22: phosphite
A23: 1000451 | B23: Nutri-Phite Magnum (265 gal) | C23: Gal | D23: 265 gal tote (1x265) | E23: 18.41 | F23: 33.75 | G23: 50.63 | H23: biostimulants | I23: phosphite
A24: 1000452 | B24: Nutri-Phite Magnum (265 gal) | C24: Gal | D24: 265 gal tote (1x265) | E24: 18.41 | F24: 33.75 | G24: 50.63 | H24: biostimulants | I24: phosphite
A25: 1000453 | B25: Nutri-Phite Magnum (265 gal) | C25: Gal | D25: 265 gal tote (1x265) | E25: 18.41 | F25: 33.75 | G25: 50.63 | H25: biostimulants | I25: phosphite
A26: 1000456 | B26: Nutri-Phite P Foliar (2.5 gal) | C26: Gal | D26: 180 gal plt (36 cs x (2x2.5)) | E26: 17.76 | F26: 33.75 | G26: 50.63 | H26: biostimulants | I26: phosphite
... A59: 1000548 | B59: Oxi-Phos (2.5 gal) | C59: Gal | D59: 180 gal plt (36 cs x (2x2.5)) | E59: 9.21 | F59: 15.5 | G59: 23.25 | H59: biostimulants | I59: nutrient
A60: 1007447 | B60: Oxi-Phos (265 gal) | C60: Gal | D60: 250 gal tote (1x250) | F60: 14.5 | H60: biostimulants | I60: nutrient
A61: 1001600 | B61: Performance 7-27-6 (2.5 gal) | C61: Gal | D61: 180 gal plt (36 cs x (2x2.5)) | E61: 9.69 | F61: 17 | G61: 25.5 | H61: biostimulants | I61: nutrient
A62: 1000540 | B62: Performance 7-27-6 (265 gal) | C62: Gal | D62: 265 gal tote (1x265) | E62: 7.83 | F62: 15 | G62: 22.5 | H62: biostimulants | I62: nutrient
A63: 1000541 | B63: Performance 7-27-6 (bulk gal) | C63: Gal | D63: bulk | E63: 6.57 | F63: 13 | G63: 19.5 | H63: biostimulants | I63: nutrient
A64: 1000505 | B64: PolyAmine Boron (2.5 gal) | C64: Gal | D64: 180 gal plt (36 cs x (2x2.5)) | E64: 9.59 | F64: 21.55 | G64: 32.33 | H64: biostimulants | I64: nutrient
A65: 1002384 | B65: PolyAmine Boron (265 gal) | C65: Gal | D65: 265 gal tote (1x265) | E65: 8.17 | F65: 20.55 | G65: 30.83 | H65: biostimulants | I65: nutrient
A66: 1000629 | B66: PolyAmine Calcium Organic (2.5 gal) | C66: Gal | D66: 180 gal plt (36 cs x (2x2.5)) | E66: 8.99 | F66: 21.55 | G66: 32.33 | H66: biostimulants | I66: nutrient
A67: 1000644 | B67: PolyAmine Calcium Organic (265 gal) | C67: Gal | D67: 265 gal tote (1x265) | E67: 7.08 | F67: 20.55 | G67: 30.83 | H67: biostimulants | I67: nutrient
A68: 1000633 | B68: PolyAmine Copper Organic (2.5 gal) | C68: Gal | D68: 180 gal plt (36 cs x (2x2.5)) | E68: 7.82 | F68: 21.55 | G68: 32.33 | H68: biostimulants | I68: nutrient
A69: 1007332 | B69: PolyAmine Copper Organic (265 gal) | C69: Gal | D69: 265 gal tote (1x265) | E69: 6.39 | F69: 20.55 | G69: 30.83 | H69: biostimulants | I69: nutrient
A70: 1000635 | B70: PolyAmine Iron Organic (2.5 gal) | C70: Gal | D70: 180 gal plt (36 cs x (2x2.5)) | E70: 9.38 | F70: 21.55 | G70: 32.33 | H70: biostimulants | I70: nutrient
A71: 1007346 | B71: PolyAmine Iron Organic (265 gal) | C71: Gal | D71: 265 gal tote (1x265) | E71: 7.95 | F71: 20.55 | G71: 30.83 | H71: biostimulants | I71: nutrient
A72: 1000631 | B72: PolyAmine Magnesium Organic (2.5 gal) | C72: Gal | D72: 180 gal plt (36 cs x (2x2.5)) | E72: 9.31 | F72: 21.55 | G72: 32.33 | H72: biostimulants | I72: nutrient
... A81: 1002401 | B81: PolyAmine Zinc Organic (265 gal) | C81: Gal | D81: 265 gal tote (1x265) | E81: 8.51 | F81: 20.55 | G81: 30.83 | H81: biostimulants | I81: nutrient
A82: 1007552 | B82: Polyamine BMZ (2.5 gal) | C82: Gal | D82: 180 gal plt (36 cs x (2x2.5)) | F82: 21.55 | G82: 32.33 | H82: biostimulants | I82: nutrient
A83: 1007558 | B83: Polyamine BMZ (265 gal) | C83: Gal | D83: 265 gal tote (1x265) | F83: 20.25 | G83: 30.38 | H83: biostimulants | I83: nutrient
A84: 1002386 | B84: PolyBor 5 (265 gal) | C84: Gal | D84: 265 gal tote (1x265) | E84: 5.92 | F84: 8 | G84: 12 | H84: biostimulants | I84: nutrient
A85: 1000511 | B85: PolyBor 5 (bulk gal) | C85: Gal | D85: bulk | E85: 4.66 | F85: 6.8 | G85: 10.2 | H85: biostimulants | I85: nutrient
A86: 1001588 | B86: PolyBor10 (2.5 gal) | C86: Gal | D86: 180 gal plt (36 cs x (2x2.5)) | E86: 11.98 | F86: 18 | G86: 27 | H86: biostimulants | I86: nutrient
A87: 1001589 | B87: PolyBor10 (265 gal) | C87: Gal | D87: 265 gal tote (1x265) | E87: 10.11 | F87: 16 | G87: 24 | H87: biostimulants | I87: nutrient
A88: 1000519 | B88: PolyBor10 (bulk gal) | C88: Gal | D88: bulk | E88: 8.85 | F88: 14 | G88: 21 | H88: biostimulants | I88: nutrient
A89: 1000732 | B89: Primacy ALPHA (2.5 gal) | C89: Gal | D89: 180 gal plt (36 cs x (2x2.5)) | E89: 17.39 | F89: 33.95 | G89: 50.93 | H89: biostimulants | I89: biostimulant
A90: 1000733 | B90: Primacy ALPHA (265 gal) | C90: Gal | D90: 265 gal tote (1x265) | E90: 15.57 | F90: 32.95 | G90: 50.93 | H90: biostimulants | I90: biostimulant
A91: 1007031 | B91: ProVera (2.5 gal) (IAP) | C91: Gal | D91: 180 gal plt (36 cs x (2x2.5)) | E91: 16.61 | H91: biostimulants | I91: biostimulant
A92: 1007035 | B92: ProVera (265 gal) (IAP) | C92: Gal | D92: 265 gal tote (1x265) | E92: 16.05 | H92: biostimulants | I92: biostimulant
A93: 1000655 | B93: ReKovery (2.5 gal) | C93: Gal | D93: 180 gal plt (36 cs x (2x2.5)) | E93: 12.51 | F93: 12 | G93: 18 | H93: biostimulants | I93: nutrient
A94: 1001722 | B94: ReKovery (265 gal) | C94: Gal | D94: 265 gal tote (1x265) | E94: 10.65 | F94: 10 | G94: 15 | H94: biostimulants | I94: nutrient
A95: 1000654 | B95: ReKovery (bulk gal) | C95: Gal | D95: bulk | E95: 9.39 | F95: 8 | G95: 12 | H95: biostimulants | I95: nutrient
A96: 1001810 | B96: ReKovery Fruit (2.5 gal) | C96: Gal | D96: 180 gal plt (36 cs x (2x2.5)) | E96: 13.51 | F96: 12 | G96: 18 | H96: biostimulants | I96: nutrient
A97: 1001795 | B97: ReKovery Fruit (265 gal) | C97: Gal | D97: 265 gal tote (1x265) | E97: 11.65 | F97: 10 | G97: 15 | H97: biostimulants | I97: nutrient
A98: 1000869 | B98: ReKovery Fruit (bulk) | C98: Gal | D98: bulk | E98: 10.39 | F98: 8 | G98: 12 | H98: biostimulants | I98: nutrient
A99: 1000475 | B99: Take Off Booster (2.5 gal) | C99: Gal | D99: 180 gal plt (36 cs x (2x2.5)) | E99: 14.58 | F99: 43.85 | G99: 65.78 | H99: biostimulants | I99: biostimulant
A100: 1000754 | B100: Take Off Booster (265 gal) | C100: Gal | D100: 265 gal tote (1x265) | E100: 12.71 | F100: 42.85 | G100: 65.78 | H100: biostimulants | I100: biostimulant
A101: 1001558 | B101: Take Off Calci-Phite (2.5 gal) | C101: Gal | D101: 180 gal plt (36 cs x (2x2.5)) | E101: 12.89 | F101: 28.9 | G101: 43.35 | H101: biostimulants | I101: phosphite
A102: 1000755 | B102: Take Off LS (2.5 gal) | C102: Gal | D102: 180 gal plt (36 cs x (2x2.5)) | E102: 15.51 | F102: 37.95 | G102: 50.15 | H102: biostimulants | I102: biostimulant
A103: 1000775 | B103: Take Off LS (265 gal) | C103: Gal | D103: 265 gal tote (1x265) | E103: 13.64 | F103: 36.95 | G103: 50.15 | H103: biostimulants | I103: biostimulant
A104: 1000756 | B104: Take Off LS (bulk gal) | C104: Gal | D104: bulk | E104: 12.38 | F104: 35.95 | G104: 50.15 | H104: biostimulants | I104: biostimulant
... A108: 1000470 | B108: Take Off Phite MZ (2.5 gal) | C108: Gal | D108: 180 gal plt (36 cs x (2x2.5)) | E108: 17.64 | F108: 36 | G108: 54 | H108: biostimulants | I108: phosphite
A113: 1001601 | B113: Steric K (2.5 gal) | C113: Gal | D113: 180 gal plt (36 cs x (2x2.5)) | F113: 7.5 | G113: 11.25 | H113: biostimulants | I113: nutrient
A114: 1000542 | B114: Steric K (265 gal) | C114: Gal | D114: 265 gal tote (1x265) | F114: 5.5 | G114: 8.25 | H114: biostimulants | I114: nutrient
A115: 1000543 | B115: Steric K (bulk gal) | C115: Gal | D115: bulk | F115: 3.5 | G115: 5.25 | H115: biostimulants | I115: nutrient
A116: 1002157 | B116: Steric K DS (2000 lb) | C116: Lb | D116: 2000 lb plt (80x25 lb bags) | F116: 1.7 | G116: 2.55 | H116: biostimulants | I116: nutrient
A117: 1001620 | B117: Steric K DS (25 lb) | C117: Lb | D117: 2000 lb plt (80x25 lb bags) | F117: 1.9 | G117: 2.85 | H117: biostimulants | I117: nutrient
A118: 1000577 | B118: Steric K DS (50 lb) | C118: Lb | D118: 2000 lb plt (40x50 lb bags) | F118: 1.8 | G118: 2.7 | H118: biostimulants | I118: nutrient
A119: 1001971 | B119: Steric Micro Copper 5% (265 gal) | C119: Gal | D119: 265 gal tote (1x265) | F119: 14 | G119: 21 | H119: biostimulants | I119: nutrient
A120: 1002388 | B120: Steric Micro Iron 5% (265 gal) | C120: Gal | D120: 265 gal tote (1x265) | F120: 7 | G120: 10.5 | H120: biostimulants | I120: nutrient
A121: 1001608 | B121: Steric Micro Magnesium 4% (265 gal) | C121: Gal | D121: 265 gal tote (1x265) | F121: 13.5 | G121: 20.25 | H121: biostimulants | I121: nutrient
A122: 1000553 | B122: Steric Micro Zinc 7% (265 gal) | C122: Gal | D122: 265 gal tote (1x265) | F122: 12.5 | G122: 18.75 | H122: biostimulants | I122: nutrient
A123: 1002403 | B123: Steric MKS (2.5 gal) (Planet Turf) | C123: Gal | D123: 180 gal plt (36 cs x (2x2.5)) | F123: 10 | G123: 15 | H123: biostimulants | I123: nutrient
A124: 1000568 | B124: Steric MKS (265 gal) | C124: Gal | D124: 265 gal tote (1x265) | F124: 8 | G124: 12 | H124: biostimulants | I124: nutrient
... A137: 1000560 | B137: Steric S (bulk gal) | C137: Gal | D137: bulk | F137: 5 | G137: 7.5 | H137: biostimulants | I137: nutrient
